BEGIN:VCALENDAR
VERSION:2.0
PRODID:-//wp-events-plugin.com//7.2.3.1//EN
TZID:Europe/Paris
X-WR-TIMEZONE:Europe/Paris
BEGIN:VEVENT
UID:4146@serein-armance.fr
DTSTART;TZID=Europe/Paris:20260327T100000
DTEND;TZID=Europe/Paris:20260327T100000
DTSTAMP:20260115T133805Z
URL:https://serein-armance.fr/events/ateliers-brain-ball-a-saint-florentin
 -2026-03-27
SUMMARY:ATELIERS BRAIN BALL à Saint-Florentin
DESCRIPTION:Atelier ouvert à tous\, le quatrième vendredi du mois à l'Es
 pace Famille Florentinois - Sur réservation -
ATTACH;FMTTYPE=image/jpeg:https://serein-armance.fr/wp-content/uploads/202
 6/01/BALL-BRAIN-BALLE-.jpg
CATEGORIES:ACTIVITÉ ADULTE
LOCATION:Espace Famille Florentinois\, 15 rue de l'Hôtel de Ville\, Saint-
 Florentin\, France\, 89600\, France
X-APPLE-STRUCTURED-LOCATION;VALUE=URI;X-ADDRESS=15 rue de l'Hôtel de Ville
 \, Saint-Florentin\, France\, 89600\, France;X-APPLE-RADIUS=100;X-TITLE=Es
 pace Famille Florentinois:geo:0,0
END:VEVENT
BEGIN:VTIMEZONE
TZID:Europe/Paris
X-LIC-LOCATION:Europe/Paris
BEGIN:STANDARD
DTSTART:20251026T020000
TZOFFSETFROM:+0200
TZOFFSETTO:+0100
TZNAME:CET
END:STANDARD
END:VTIMEZONE
END:VCALENDAR