BEGIN:VCALENDAR
VERSION:2.0
PRODID:-//wp-events-plugin.com//7.2.3.1//EN
TZID:Europe/Paris
X-WR-TIMEZONE:Europe/Paris
BEGIN:VEVENT
UID:4165@serein-armance.fr
DTSTART;TZID=Europe/Paris:20260320T093000
DTEND;TZID=Europe/Paris:20260320T180000
DTSTAMP:20260317T161129Z
URL:https://serein-armance.fr/events/bourse-a-tout-a-saint-florentin
SUMMARY:BOURSE A TOUT à Saint-Florentin
DESCRIPTION:Vente de vêtements\, vaisselle\,  jouets... à l'Espace Famill
 e Florentinois 
ATTACH;FMTTYPE=image/jpeg:https://serein-armance.fr/wp-content/uploads/202
 6/01/BOURSE-BRADERIE-VIDE-GRENIER.jpg
CATEGORIES:VIDE GRENIERS - BOURSE
LOCATION:Espace Famille Florentinois\, 15 rue de l'Hôtel de Ville\, Saint-
 Florentin\, France\, 89600\, France
X-APPLE-STRUCTURED-LOCATION;VALUE=URI;X-ADDRESS=15 rue de l'Hôtel de Ville
 \, Saint-Florentin\, France\, 89600\, France;X-APPLE-RADIUS=100;X-TITLE=Es
 pace Famille Florentinois:geo:0,0
END:VEVENT
BEGIN:VTIMEZONE
TZID:Europe/Paris
X-LIC-LOCATION:Europe/Paris
BEGIN:STANDARD
DTSTART:20251026T020000
TZOFFSETFROM:+0200
TZOFFSETTO:+0100
TZNAME:CET
END:STANDARD
END:VTIMEZONE
END:VCALENDAR