BEGIN:VCALENDAR
VERSION:2.0
PRODID:-//wp-events-plugin.com//7.2.3.1//EN
TZID:Europe/Paris
X-WR-TIMEZONE:Europe/Paris
BEGIN:VEVENT
UID:4210@serein-armance.fr
DTSTART;TZID=Europe/Paris:20260411T090000
DTEND;TZID=Europe/Paris:20260412T170000
DTSTAMP:20260223T134012Z
URL:https://serein-armance.fr/events/bourse-de-printemps-a-brienon-sur-arm
 ancon
SUMMARY:BOURSE DE PRINTEMPS à Brienon sur Armançon
DESCRIPTION:Vêtements\, jouets\, puériculture... à la salle des fêtes d
 e Brienon 
ATTACH;FMTTYPE=image/jpeg:https://serein-armance.fr/wp-content/uploads/202
 6/02/BOURSE-JOUETS-PUERICULTURE.png
CATEGORIES:VIDE GRENIERS - BOURSE
LOCATION:Salle des fêtes de Brienon sur Armançon\, 8 place E. Drominy\, B
 rienon sur Armançon\, 89210\, France
X-APPLE-STRUCTURED-LOCATION;VALUE=URI;X-ADDRESS=8 place E. Drominy\, Brieno
 n sur Armançon\, 89210\, France;X-APPLE-RADIUS=100;X-TITLE=Salle des fêt
 es de Brienon sur Armançon:geo:0,0
END:VEVENT
BEGIN:VTIMEZONE
TZID:Europe/Paris
X-LIC-LOCATION:Europe/Paris
BEGIN:DAYLIGHT
DTSTART:20260329T030000
TZOFFSETFROM:+0100
TZOFFSETTO:+0200
TZNAME:CEST
END:DAYLIGHT
END:VTIMEZONE
END:VCALENDAR