BEGIN:VCALENDAR
VERSION:2.0
PRODID:-//wp-events-plugin.com//7.2.3.1//EN
TZID:Europe/Paris
X-WR-TIMEZONE:Europe/Paris
BEGIN:VEVENT
UID:4221@serein-armance.fr
DTSTART;TZID=Europe/Paris:20260321T130000
DTEND;TZID=Europe/Paris:20260321T170000
DTSTAMP:20260225T103436Z
URL:https://serein-armance.fr/events/carnaval-a-seignelay-3
SUMMARY:CARNAVAL à Seignelay
DESCRIPTION:Déguisement fortement conseillé pour ce carnaval très color
 é à Seignelay -
ATTACH;FMTTYPE=image/jpeg:https://serein-armance.fr/wp-content/uploads/202
 6/01/CARNAVAL.jpg
CATEGORIES:FÊTES,JEUNE PUBLIC
LOCATION:Parc municipal de Seignelay\, Rue du Vivier\, Seignelay\, 89250\, 
 France
X-APPLE-STRUCTURED-LOCATION;VALUE=URI;X-ADDRESS=Rue du Vivier\, Seignelay\,
  89250\, France;X-APPLE-RADIUS=100;X-TITLE=Parc municipal de Seignelay:geo
 :0,0
END:VEVENT
BEGIN:VTIMEZONE
TZID:Europe/Paris
X-LIC-LOCATION:Europe/Paris
BEGIN:STANDARD
DTSTART:20251026T020000
TZOFFSETFROM:+0200
TZOFFSETTO:+0100
TZNAME:CET
END:STANDARD
END:VTIMEZONE
END:VCALENDAR