BEGIN:VCALENDAR
VERSION:2.0
PRODID:-//wp-events-plugin.com//7.2.3.1//EN
TZID:Europe/Paris
X-WR-TIMEZONE:Europe/Paris
BEGIN:VEVENT
UID:4250@serein-armance.fr
DTSTART;TZID=Europe/Paris:20260318T200000
DTEND;TZID=Europe/Paris:20260318T200000
DTSTAMP:20260311T155548Z
URL:https://serein-armance.fr/events/cinema-a-neuvy-sautour-6
SUMMARY:CINÉMA à Neuvy-Sautour
DESCRIPTION:Au programme : "Marsupilami"\, une comédie de P. Lacheau...
ATTACH;FMTTYPE=image/jpeg:https://serein-armance.fr/wp-content/uploads/202
 5/10/cinema-GF-scaled.jpg
CATEGORIES:CINEMA
LOCATION:Salle des fêtes de Neuvy-Sautour\, rue Gabriel Guillot\, Neuvy-Sa
 utour\, 89570\, France
X-APPLE-STRUCTURED-LOCATION;VALUE=URI;X-ADDRESS=rue Gabriel Guillot\, Neuvy
 -Sautour\, 89570\, France;X-APPLE-RADIUS=100;X-TITLE=Salle des fêtes de N
 euvy-Sautour:geo:0,0
END:VEVENT
BEGIN:VTIMEZONE
TZID:Europe/Paris
X-LIC-LOCATION:Europe/Paris
BEGIN:STANDARD
DTSTART:20251026T020000
TZOFFSETFROM:+0200
TZOFFSETTO:+0100
TZNAME:CET
END:STANDARD
END:VTIMEZONE
END:VCALENDAR