BEGIN:VCALENDAR
VERSION:2.0
PRODID:-//wp-events-plugin.com//7.2.3.1//EN
TZID:Europe/Paris
X-WR-TIMEZONE:Europe/Paris
BEGIN:VEVENT
UID:4326@serein-armance.fr
DTSTART;TZID=Europe/Paris:20260426T170000
DTEND;TZID=Europe/Paris:20260426T170000
DTSTAMP:20260416T163702Z
URL:https://serein-armance.fr/events/concert-a-esnon
SUMMARY:CONCERT à Esnon
DESCRIPTION:Chansons françaises à la salle des fêtes d'Esnon 
ATTACH;FMTTYPE=image/jpeg:https://serein-armance.fr/wp-content/uploads/202
 6/03/chorales.gif
CATEGORIES:CONCERT
LOCATION:salle des fêtes d'Esnon\, Impasse de l'église\, Esnon\, 89210\, 
 France
X-APPLE-STRUCTURED-LOCATION;VALUE=URI;X-ADDRESS=Impasse de l'église\, Esno
 n\, 89210\, France;X-APPLE-RADIUS=100;X-TITLE=salle des fêtes d'Esnon:geo
 :0,0
END:VEVENT
BEGIN:VTIMEZONE
TZID:Europe/Paris
X-LIC-LOCATION:Europe/Paris
BEGIN:DAYLIGHT
DTSTART:20260329T030000
TZOFFSETFROM:+0100
TZOFFSETTO:+0200
TZNAME:CEST
END:DAYLIGHT
END:VTIMEZONE
END:VCALENDAR