BEGIN:VCALENDAR
VERSION:2.0
PRODID:-//wp-events-plugin.com//7.2.3.1//EN
TZID:Europe/Paris
X-WR-TIMEZONE:Europe/Paris
BEGIN:VEVENT
UID:4291@serein-armance.fr
DTSTART;TZID=Europe/Paris:20260419T160000
DTEND;TZID=Europe/Paris:20260419T160000
DTSTAMP:20260328T094125Z
URL:https://serein-armance.fr/events/concert-a-venizy-3
SUMMARY:CONCERT DE FLÛTES TRAVERSIERES à Venizy
DESCRIPTION:Concert par l'Orchestre de flûtes traversières de l'Yonne à 
 l'auditorium de Venizy 
ATTACH;FMTTYPE=image/jpeg:https://serein-armance.fr/wp-content/uploads/202
 6/03/Orchestre-flutissime.png
CATEGORIES:CONCERT
LOCATION:Auditorium Serein et Armance\, 4 chemin du Donjon\, Venizy\, 89210
 \, France
X-APPLE-STRUCTURED-LOCATION;VALUE=URI;X-ADDRESS=4 chemin du Donjon\, Venizy
 \, 89210\, France;X-APPLE-RADIUS=100;X-TITLE=Auditorium Serein et Armance:
 geo:0,0
END:VEVENT
BEGIN:VTIMEZONE
TZID:Europe/Paris
X-LIC-LOCATION:Europe/Paris
BEGIN:DAYLIGHT
DTSTART:20260329T030000
TZOFFSETFROM:+0100
TZOFFSETTO:+0200
TZNAME:CEST
END:DAYLIGHT
END:VTIMEZONE
END:VCALENDAR