BEGIN:VCALENDAR
VERSION:2.0
PRODID:-//wp-events-plugin.com//7.2.3.1//EN
TZID:Europe/Paris
X-WR-TIMEZONE:Europe/Paris
BEGIN:VEVENT
UID:4239@serein-armance.fr
DTSTART;TZID=Europe/Paris:20260411T103000
DTEND;TZID=Europe/Paris:20260411T103000
DTSTAMP:20260305T153817Z
URL:https://serein-armance.fr/events/course-cyclisme-a-ormoy
SUMMARY:COURSE CYCLISTE à Ormoy
DESCRIPTION:Prix de la municipalité d'Ormoy 
ATTACH;FMTTYPE=image/jpeg:https://serein-armance.fr/wp-content/uploads/202
 6/03/cyclisme-course.jpg
CATEGORIES:SPORT
LOCATION:Eglise de Ormoy\, rue Sainte-Anne\, Ormoy\, 89400\, France
X-APPLE-STRUCTURED-LOCATION;VALUE=URI;X-ADDRESS=rue Sainte-Anne\, Ormoy\, 8
 9400\, France;X-APPLE-RADIUS=100;X-TITLE=Eglise de Ormoy:geo:0,0
END:VEVENT
BEGIN:VTIMEZONE
TZID:Europe/Paris
X-LIC-LOCATION:Europe/Paris
BEGIN:DAYLIGHT
DTSTART:20260329T030000
TZOFFSETFROM:+0100
TZOFFSETTO:+0200
TZNAME:CEST
END:DAYLIGHT
END:VTIMEZONE
END:VCALENDAR