BEGIN:VCALENDAR
VERSION:2.0
PRODID:-//wp-events-plugin.com//7.2.3.1//EN
TZID:Europe/Paris
X-WR-TIMEZONE:Europe/Paris
BEGIN:VEVENT
UID:4323@serein-armance.fr
DTSTART;TZID=Europe/Paris:20260425T160000
DTEND;TZID=Europe/Paris:20260425T160000
DTSTAMP:20260415T155853Z
URL:https://serein-armance.fr/events/deux-orchestres-dharmonie-au-mont-st-
 sulpice
SUMMARY:DEUX ORCHESTRES D'HARMONIE au Mont-St-Sulpice
DESCRIPTION:Concert par les orchestres de la Lyre Montoise et l'Indépendan
 te de Charny-Orée de Puisaye -
ATTACH;FMTTYPE=image/jpeg:https://serein-armance.fr/wp-content/uploads/202
 3/03/CONCERT.gif
CATEGORIES:CONCERT
LOCATION:Eglise du Mont-St-Sulpice\, Rue Marchande\, Mont St-Sulpice\, 8925
 0\, France
X-APPLE-STRUCTURED-LOCATION;VALUE=URI;X-ADDRESS=Rue Marchande\, Mont St-Sul
 pice\, 89250\, France;X-APPLE-RADIUS=100;X-TITLE=Eglise du Mont-St-Sulpice
 :geo:0,0
END:VEVENT
BEGIN:VTIMEZONE
TZID:Europe/Paris
X-LIC-LOCATION:Europe/Paris
BEGIN:DAYLIGHT
DTSTART:20260329T030000
TZOFFSETFROM:+0100
TZOFFSETTO:+0200
TZNAME:CEST
END:DAYLIGHT
END:VTIMEZONE
END:VCALENDAR