BEGIN:VCALENDAR
VERSION:2.0
PRODID:-//wp-events-plugin.com//7.2.3.1//EN
TZID:Europe/Paris
X-WR-TIMEZONE:Europe/Paris
BEGIN:VEVENT
UID:4258@serein-armance.fr
DTSTART;TZID=Europe/Paris:20260425T071500
DTEND;TZID=Europe/Paris:20260425T071500
DTSTAMP:20260317T152239Z
URL:https://serein-armance.fr/events/excursion-au-depart-de-st-florentin
SUMMARY:EXCURSION au départ de St-Florentin
DESCRIPTION:Une croisière sur le Canal du Nivernais au départ de Saint-Fl
 orentin - Sur réservation 
ATTACH;FMTTYPE=image/jpeg:https://serein-armance.fr/wp-content/uploads/202
 5/11/EXCURSION-AUTOCAR-GF.jpg
CATEGORIES:EXCURSION
LOCATION:Place Dubost\, Place Dubost\, Saint-Florentin\, 89600\, France
X-APPLE-STRUCTURED-LOCATION;VALUE=URI;X-ADDRESS=Place Dubost\, Saint-Floren
 tin\, 89600\, France;X-APPLE-RADIUS=100;X-TITLE=Place Dubost:geo:0,0
END:VEVENT
BEGIN:VTIMEZONE
TZID:Europe/Paris
X-LIC-LOCATION:Europe/Paris
BEGIN:DAYLIGHT
DTSTART:20260329T030000
TZOFFSETFROM:+0100
TZOFFSETTO:+0200
TZNAME:CEST
END:DAYLIGHT
END:VTIMEZONE
END:VCALENDAR