BEGIN:VCALENDAR
VERSION:2.0
PRODID:-//wp-events-plugin.com//7.2.3.1//EN
TZID:Europe/Paris
X-WR-TIMEZONE:Europe/Paris
BEGIN:VEVENT
UID:4104@serein-armance.fr
DTSTART;TZID=Europe/Paris:20260606T060000
DTEND;TZID=Europe/Paris:20260606T060000
DTSTAMP:20251215T145040Z
URL:https://serein-armance.fr/events/excursion-au-zoo-de-beauval-a-neuvy-s
 autour
SUMMARY:EXCURSION AU ZOO DE BEAUVAL à Neuvy-Sautour
DESCRIPTION:Excursion pour le Zoo de Beauval au départ de Neuvy-Sautour - 
 Sur réservation -
ATTACH;FMTTYPE=image/jpeg:https://serein-armance.fr/wp-content/uploads/202
 5/11/EXCURSION-AUTOCAR-GF.jpg
CATEGORIES:EXCURSION,JEUNE PUBLIC
LOCATION:Place du Château\, Place du Château\, Neuvy-Sautour\, 89570\, Fr
 ance
X-APPLE-STRUCTURED-LOCATION;VALUE=URI;X-ADDRESS=Place du Château\, Neuvy-S
 autour\, 89570\, France;X-APPLE-RADIUS=100;X-TITLE=Place du Château:geo:0
 ,0
END:VEVENT
BEGIN:VTIMEZONE
TZID:Europe/Paris
X-LIC-LOCATION:Europe/Paris
BEGIN:DAYLIGHT
DTSTART:20260329T030000
TZOFFSETFROM:+0100
TZOFFSETTO:+0200
TZNAME:CEST
END:DAYLIGHT
END:VTIMEZONE
END:VCALENDAR