BEGIN:VCALENDAR
VERSION:2.0
PRODID:-//wp-events-plugin.com//7.2.3.1//EN
TZID:Europe/Paris
X-WR-TIMEZONE:Europe/Paris
BEGIN:VEVENT
UID:4112@serein-armance.fr
DTSTART;TZID=Europe/Paris:20260302T000000
DTEND;TZID=Europe/Paris:20260328T000000
DTSTAMP:20251226T152326Z
URL:https://serein-armance.fr/events/exposition-de-philippe-lafond-a-saint
 -florentin
SUMMARY:EXPOSITION DE PHILIPPE LAFOND à Saint-Florentin
DESCRIPTION:Exposition des peintures de Philippe Lafond à la médiathèque
  de Saint-Florentin
ATTACH;FMTTYPE=image/jpeg:https://serein-armance.fr/wp-content/uploads/202
 5/12/PH.-LAFOND.jpg
CATEGORIES:EXPOSITION
LOCATION:Médiathèque\, 12 promenade de la Vernée\, Saint-Florentin\, Ser
 ein et Armance\, 89600\, France
X-APPLE-STRUCTURED-LOCATION;VALUE=URI;X-ADDRESS=12 promenade de la Vernée\
 , Saint-Florentin\, Serein et Armance\, 89600\, France;X-APPLE-RADIUS=100;
 X-TITLE=Médiathèque:geo:0,0
END:VEVENT
BEGIN:VTIMEZONE
TZID:Europe/Paris
X-LIC-LOCATION:Europe/Paris
BEGIN:STANDARD
DTSTART:20251026T020000
TZOFFSETFROM:+0200
TZOFFSETTO:+0100
TZNAME:CET
END:STANDARD
END:VTIMEZONE
END:VCALENDAR