BEGIN:VCALENDAR
VERSION:2.0
PRODID:-//wp-events-plugin.com//7.2.3.1//EN
TZID:Europe/Paris
X-WR-TIMEZONE:Europe/Paris
BEGIN:VEVENT
UID:2494@serein-armance.fr
DTSTART;TZID=Europe/Paris:20241025T140000
DTEND;TZID=Europe/Paris:20241025T180000
DTSTAMP:20241009T145830Z
URL:https://serein-armance.fr/events/exposition-de-photos-a-saint-florenti
 n-8-2024-10-25
SUMMARY:EXPOSITION DE PHOTOS à Saint-Florentin
DESCRIPTION:Exposition de photos de Christian Rondet à la médiathèque de
  Saint-Florentin
ATTACH;FMTTYPE=image/jpeg:https://serein-armance.fr/wp-content/uploads/202
 3/02/mediatheque2.gif
CATEGORIES:EXPOSITION
LOCATION:Médiathèque\, 12 promenade de la Vernée\, Saint-Florentin\, Ser
 ein et Armance\, 89600\, France
X-APPLE-STRUCTURED-LOCATION;VALUE=URI;X-ADDRESS=12 promenade de la Vernée\
 , Saint-Florentin\, Serein et Armance\, 89600\, France;X-APPLE-RADIUS=100;
 X-TITLE=Médiathèque:geo:0,0
END:VEVENT
BEGIN:VTIMEZONE
TZID:Europe/Paris
X-LIC-LOCATION:Europe/Paris
BEGIN:DAYLIGHT
DTSTART:20240331T030000
TZOFFSETFROM:+0100
TZOFFSETTO:+0200
TZNAME:CEST
END:DAYLIGHT
END:VTIMEZONE
END:VCALENDAR