BEGIN:VCALENDAR
VERSION:2.0
PRODID:-//wp-events-plugin.com//7.2.3.1//EN
TZID:Europe/Paris
X-WR-TIMEZONE:Europe/Paris
BEGIN:VEVENT
UID:4114@serein-armance.fr
DTSTART;TZID=Europe/Paris:20260302T143000
DTEND;TZID=Europe/Paris:20260330T173000
DTSTAMP:20251226T163908Z
URL:https://serein-armance.fr/events/exposition-de-popette-a-saint-florent
 in
SUMMARY:EXPOSITION DE POPETTE à Saint-Florentin
DESCRIPTION:Pauline Mesa\, artiste pop art déco... au musée en Florentino
 is - fermé le mardi et le vendredi
ATTACH;FMTTYPE=image/jpeg:https://serein-armance.fr/wp-content/uploads/202
 5/12/MUSEE-EN-FLORENTINOIS.jpg
CATEGORIES:EXPOSITION
LOCATION:Musée en florentinois\, 17 avenue du Général Leclerc\, Saint-Fl
 orentin\, 89600\, France
X-APPLE-STRUCTURED-LOCATION;VALUE=URI;X-ADDRESS=17 avenue du Général Lecl
 erc\, Saint-Florentin\, 89600\, France;X-APPLE-RADIUS=100;X-TITLE=Musée e
 n florentinois:geo:0,0
END:VEVENT
BEGIN:VTIMEZONE
TZID:Europe/Paris
X-LIC-LOCATION:Europe/Paris
BEGIN:STANDARD
DTSTART:20251026T020000
TZOFFSETFROM:+0200
TZOFFSETTO:+0100
TZNAME:CET
END:STANDARD
BEGIN:DAYLIGHT
DTSTART:20260329T030000
TZOFFSETFROM:+0100
TZOFFSETTO:+0200
TZNAME:CEST
END:DAYLIGHT
END:VTIMEZONE
END:VCALENDAR