BEGIN:VCALENDAR
VERSION:2.0
PRODID:-//wp-events-plugin.com//7.2.3.1//EN
TZID:Europe/Paris
X-WR-TIMEZONE:Europe/Paris
BEGIN:VEVENT
UID:4184@serein-armance.fr
DTSTART;TZID=Europe/Paris:20260628T060000
DTEND;TZID=Europe/Paris:20260628T180000
DTSTAMP:20260204T095458Z
URL:https://serein-armance.fr/events/foire-artisanale-et-vide-greniers-a-v
 illiers-vineux
SUMMARY:21 ème FOIRE ARTISANALE ET VIDE-GRENIERS à Villiers-Vineux
DESCRIPTION:De nombreux exposants attendus\, et des animations pour tous da
 ns les rues de Villiers-Vineux -
ATTACH;FMTTYPE=image/jpeg:https://serein-armance.fr/wp-content/uploads/202
 3/04/vide-greniers-actu.gif
CATEGORIES:FÊTES,JEUNE PUBLIC,VIDE GRENIERS - BOURSE
END:VEVENT
BEGIN:VTIMEZONE
TZID:Europe/Paris
X-LIC-LOCATION:Europe/Paris
BEGIN:DAYLIGHT
DTSTART:20260329T030000
TZOFFSETFROM:+0100
TZOFFSETTO:+0200
TZNAME:CEST
END:DAYLIGHT
END:VTIMEZONE
END:VCALENDAR