BEGIN:VCALENDAR
VERSION:2.0
PRODID:-//wp-events-plugin.com//7.2.3.1//EN
TZID:Europe/Paris
X-WR-TIMEZONE:Europe/Paris
BEGIN:VEVENT
UID:4324@serein-armance.fr
DTSTART;TZID=Europe/Paris:20260508T090000
DTEND;TZID=Europe/Paris:20260509T180000
DTSTAMP:20260415T165531Z
URL:https://serein-armance.fr/events/formation-sur-les-violences-sexuelles
 -a-brienon-sur-armancon
SUMMARY:FORMATION SUR LES VIOLENCES SEXUELLES à Brienon sur Armançon
DESCRIPTION:Formation proposée par l'association "Guérissons des Violence
 s Sexuelles" à la Ferme de Noël - Sur réservation
ATTACH;FMTTYPE=image/jpeg:https://serein-armance.fr/wp-content/uploads/202
 6/04/FORMATION-VIOLENCE-SEXUELLE.png
CATEGORIES:CONFÉRENCE,DISCUSSION
LOCATION:ferme Noël\, Route d'Ormoy\, Brienon sur Armançon\, 89210\, Fran
 ce
X-APPLE-STRUCTURED-LOCATION;VALUE=URI;X-ADDRESS=Route d'Ormoy\, Brienon sur
  Armançon\, 89210\, France;X-APPLE-RADIUS=100;X-TITLE=ferme Noël:geo:0,0
END:VEVENT
BEGIN:VTIMEZONE
TZID:Europe/Paris
X-LIC-LOCATION:Europe/Paris
BEGIN:DAYLIGHT
DTSTART:20260329T030000
TZOFFSETFROM:+0100
TZOFFSETTO:+0200
TZNAME:CEST
END:DAYLIGHT
END:VTIMEZONE
END:VCALENDAR