BEGIN:VCALENDAR
VERSION:2.0
PRODID:-//wp-events-plugin.com//7.2.3.1//EN
TZID:Europe/Paris
X-WR-TIMEZONE:Europe/Paris
BEGIN:VEVENT
UID:4232@serein-armance.fr
DTSTART;TZID=Europe/Paris:20260414T140000
DTEND;TZID=Europe/Paris:20260414T173000
DTSTAMP:20260305T132533Z
URL:https://serein-armance.fr/events/jeux-de-societe-a-beaumont-2026-04-14
SUMMARY:JEUX DE SOCIÉTÉ à Beaumont
DESCRIPTION:Ouvert à tous jusqu'au 23 juin\,  1 mardi sur 2 dans la salle 
 de Beaumont -
ATTACH;FMTTYPE=image/jpeg:https://serein-armance.fr/wp-content/uploads/202
 6/02/jeux-de-societe.png
CATEGORIES:ACTIVITÉ ADULTE,JEUX
LOCATION:salle communale de Beaumont\, salle communale\, Beaumont\, 89250\,
  France
X-APPLE-STRUCTURED-LOCATION;VALUE=URI;X-ADDRESS=salle communale\, Beaumont\
 , 89250\, France;X-APPLE-RADIUS=100;X-TITLE=salle communale de Beaumont:ge
 o:0,0
END:VEVENT
BEGIN:VTIMEZONE
TZID:Europe/Paris
X-LIC-LOCATION:Europe/Paris
BEGIN:DAYLIGHT
DTSTART:20260329T030000
TZOFFSETFROM:+0100
TZOFFSETTO:+0200
TZNAME:CEST
END:DAYLIGHT
END:VTIMEZONE
END:VCALENDAR