BEGIN:VCALENDAR
VERSION:2.0
PRODID:-//wp-events-plugin.com//7.2.3.1//EN
TZID:Europe/Paris
X-WR-TIMEZONE:Europe/Paris
BEGIN:VEVENT
UID:3908@serein-armance.fr
DTSTART;TZID=Europe/Paris:20260606T110000
DTEND;TZID=Europe/Paris:20260606T113000
DTSTAMP:20251231T134047Z
URL:https://serein-armance.fr/events/lheure-du-conte-a-ormoy-2-2026-06-06
SUMMARY:L'HEURE DU CONTE à Ormoy
DESCRIPTION:Chaque premier samedi du mois\, une histoire pour les petits à
  la bibliothèque d'Ormoy -
ATTACH;FMTTYPE=image/jpeg:https://serein-armance.fr/wp-content/uploads/202
 5/09/Conte-livre-enfant-GF.jpg
CATEGORIES:JEUNE PUBLIC,LECTURE - POÉSIE
LOCATION:Mairie d'Ormoy\, rue du commandant Charpy\, Ormoy\, 89400\, France
X-APPLE-STRUCTURED-LOCATION;VALUE=URI;X-ADDRESS=rue du commandant Charpy\, 
 Ormoy\, 89400\, France;X-APPLE-RADIUS=100;X-TITLE=Mairie d'Ormoy:geo:0,0
END:VEVENT
BEGIN:VTIMEZONE
TZID:Europe/Paris
X-LIC-LOCATION:Europe/Paris
BEGIN:DAYLIGHT
DTSTART:20260329T030000
TZOFFSETFROM:+0100
TZOFFSETTO:+0200
TZNAME:CEST
END:DAYLIGHT
END:VTIMEZONE
END:VCALENDAR