BEGIN:VCALENDAR
VERSION:2.0
PRODID:-//wp-events-plugin.com//7.2.3.1//EN
TZID:Europe/Paris
X-WR-TIMEZONE:Europe/Paris
BEGIN:VEVENT
UID:4292@serein-armance.fr
DTSTART;TZID=Europe/Paris:20260418T081500
DTEND;TZID=Europe/Paris:20260418T081500
DTSTAMP:20260328T094703Z
URL:https://serein-armance.fr/events/rassemblement-de-motos-a-soumaintrain
SUMMARY:RASSEMBLEMENT DE MOTOS à Soumaintrain
DESCRIPTION:Rassemblement + balade + repas au départ de la halle champêtr
 e de Soumaintrain - sur réservation 
ATTACH;FMTTYPE=image/jpeg:https://serein-armance.fr/wp-content/uploads/202
 6/03/MEUH-ZICOS-MOTOS.png
CATEGORIES:ACTIVITÉ ADULTE,RANDONNÉE
LOCATION:Préau de Soumaintrain\, Route de Neuvy-Sautour\, SOUMAINTRAIN\, 8
 9570\, France
X-APPLE-STRUCTURED-LOCATION;VALUE=URI;X-ADDRESS=Route de Neuvy-Sautour\, SO
 UMAINTRAIN\, 89570\, France;X-APPLE-RADIUS=100;X-TITLE=Préau de Soumaintr
 ain:geo:0,0
END:VEVENT
BEGIN:VTIMEZONE
TZID:Europe/Paris
X-LIC-LOCATION:Europe/Paris
BEGIN:DAYLIGHT
DTSTART:20260329T030000
TZOFFSETFROM:+0100
TZOFFSETTO:+0200
TZNAME:CEST
END:DAYLIGHT
END:VTIMEZONE
END:VCALENDAR