BEGIN:VCALENDAR
VERSION:2.0
PRODID:-//wp-events-plugin.com//7.2.3.1//EN
TZID:Europe/Paris
X-WR-TIMEZONE:Europe/Paris
BEGIN:VEVENT
UID:4215@serein-armance.fr
DTSTART;TZID=Europe/Paris:20260320T200000
DTEND;TZID=Europe/Paris:20260320T200000
DTSTAMP:20260223T151650Z
URL:https://serein-armance.fr/events/repas-a-la-ferme-a-brienon-sur-armanc
 on
SUMMARY:REPAS à LA FERME à Brienon sur Armançon
DESCRIPTION:Repas "Far West" avec animation country à la ferme Bouy-Vieux 
 de Brienon - Sur réservation -
ATTACH;FMTTYPE=image/jpeg:https://serein-armance.fr/wp-content/uploads/202
 5/10/Repas-festif-GF.jpg
CATEGORIES:DANSE,REPAS
LOCATION:ferme bouy-Vieux\, Route de Bussy en Othe\, Brienon sur Armançon\
 , 89210\, France
X-APPLE-STRUCTURED-LOCATION;VALUE=URI;X-ADDRESS=Route de Bussy en Othe\, Br
 ienon sur Armançon\, 89210\, France;X-APPLE-RADIUS=100;X-TITLE=ferme bouy
 -Vieux:geo:0,0
END:VEVENT
BEGIN:VTIMEZONE
TZID:Europe/Paris
X-LIC-LOCATION:Europe/Paris
BEGIN:STANDARD
DTSTART:20251026T020000
TZOFFSETFROM:+0200
TZOFFSETTO:+0100
TZNAME:CET
END:STANDARD
END:VTIMEZONE
END:VCALENDAR