BEGIN:VCALENDAR
VERSION:2.0
PRODID:-//wp-events-plugin.com//7.2.3.1//EN
TZID:Europe/Paris
X-WR-TIMEZONE:Europe/Paris
BEGIN:VEVENT
UID:3991@serein-armance.fr
DTSTART;TZID=Europe/Paris:20251231T193000
DTEND;TZID=Europe/Paris:20251231T193000
DTSTAMP:20251016T143936Z
URL:https://serein-armance.fr/events/reveillon-de-la-st-sylvestre-a-vergig
 ny
SUMMARY:RÉVEILLON DE LA ST-SYLVESTRE à Vergigny
DESCRIPTION:Repas gastronomique et animation musicale à la salle des fête
 s de Vergigny - Sur réservation -
ATTACH;FMTTYPE=image/jpeg:https://serein-armance.fr/wp-content/uploads/202
 5/10/Nouvel-an-St-sylvestre-GF.jpg
CATEGORIES:FÊTES,REPAS
LOCATION:Salle des fêtes de Vergigny\, rue des Bruyères\, Vergigny\, 8960
 0\, France
X-APPLE-STRUCTURED-LOCATION;VALUE=URI;X-ADDRESS=rue des Bruyères\, Vergign
 y\, 89600\, France;X-APPLE-RADIUS=100;X-TITLE=Salle des fêtes de Vergigny
 :geo:0,0
END:VEVENT
BEGIN:VTIMEZONE
TZID:Europe/Paris
X-LIC-LOCATION:Europe/Paris
BEGIN:STANDARD
DTSTART:20251026T020000
TZOFFSETFROM:+0200
TZOFFSETTO:+0100
TZNAME:CET
END:STANDARD
END:VTIMEZONE
END:VCALENDAR