BEGIN:VCALENDAR
VERSION:2.0
PRODID:-//wp-events-plugin.com//7.2.3.1//EN
TZID:Europe/Paris
X-WR-TIMEZONE:Europe/Paris
BEGIN:VEVENT
UID:3265@serein-armance.fr
DTSTART;TZID=Europe/Paris:20250809T143000
DTEND;TZID=Europe/Paris:20250809T143000
DTSTAMP:20250620T094351Z
URL:https://serein-armance.fr/events/saint-florentin-sous-loccupation-a-sa
 int-florentin-2-2025-08-09
SUMMARY:SAINT-FLORENTIN SOUS L'OCCUPATION à Saint-Florentin
DESCRIPTION:Un circuit véhiculé et commenté qui retrace la vie florentin
 ois sous l'occupation - Sur Réservation -
ATTACH;FMTTYPE=image/jpeg:https://serein-armance.fr/wp-content/uploads/202
 4/10/Guerre-Mondiale.png
CATEGORIES:VISITE GUIDÉE
END:VEVENT
BEGIN:VTIMEZONE
TZID:Europe/Paris
X-LIC-LOCATION:Europe/Paris
BEGIN:DAYLIGHT
DTSTART:20250330T030000
TZOFFSETFROM:+0100
TZOFFSETTO:+0200
TZNAME:CEST
END:DAYLIGHT
END:VTIMEZONE
END:VCALENDAR