BEGIN:VCALENDAR
VERSION:2.0
PRODID:-//wp-events-plugin.com//7.2.3.1//EN
TZID:Europe/Paris
X-WR-TIMEZONE:Europe/Paris
BEGIN:VEVENT
UID:4328@serein-armance.fr
DTSTART;TZID=Europe/Paris:20260920T090000
DTEND;TZID=Europe/Paris:20260920T180000
DTSTAMP:20260417T075202Z
URL:https://serein-armance.fr/events/salon-des-creations-artisanales-a-sei
 gnelay
SUMMARY:SALON DES CRÉATIONS ARTISANALES à Seignelay
DESCRIPTION:Salon de toutes les créations à la salle des fêtes de Seigne
 lay 
ATTACH;FMTTYPE=image/jpeg:https://serein-armance.fr/wp-content/uploads/202
 6/04/SALON-DES-CREATIONS.png
CATEGORIES:SALON
LOCATION:Salle des fêtes de  Seignelay\, Rue de l'église\, Seignelay\, 89
 250\, France
X-APPLE-STRUCTURED-LOCATION;VALUE=URI;X-ADDRESS=Rue de l'église\, Seignela
 y\, 89250\, France;X-APPLE-RADIUS=100;X-TITLE=Salle des fêtes de  Seignel
 ay:geo:0,0
END:VEVENT
BEGIN:VTIMEZONE
TZID:Europe/Paris
X-LIC-LOCATION:Europe/Paris
BEGIN:DAYLIGHT
DTSTART:20260329T030000
TZOFFSETFROM:+0100
TZOFFSETTO:+0200
TZNAME:CEST
END:DAYLIGHT
END:VTIMEZONE
END:VCALENDAR