BEGIN:VCALENDAR
VERSION:2.0
PRODID:-//wp-events-plugin.com//7.2.3.1//EN
TZID:Europe/Paris
X-WR-TIMEZONE:Europe/Paris
BEGIN:VEVENT
UID:3394@serein-armance.fr
DTSTART;TZID=Europe/Paris:20250919T210000
DTEND;TZID=Europe/Paris:20250919T210000
DTSTAMP:20250529T093947Z
URL:https://serein-armance.fr/events/sanseverino-en-concert-a-saint-floren
 tin
SUMMARY:SANSEVERINO en concert à Saint-Florentin
DESCRIPTION:Du jazz manouche un peu rocky au Jardin de l'Octroi de Saint-Fl
 orentin
ATTACH;FMTTYPE=image/jpeg:https://serein-armance.fr/wp-content/uploads/202
 3/05/Festival-Othe.png
CATEGORIES:APERO-CONCERT
LOCATION:Jardin de l'Octroi\, Rue du Faubourg du Pont\, Saint-Florentin\, 8
 9600\, France
X-APPLE-STRUCTURED-LOCATION;VALUE=URI;X-ADDRESS=Rue du Faubourg du Pont\, S
 aint-Florentin\, 89600\, France;X-APPLE-RADIUS=100;X-TITLE=Jardin de l'Oct
 roi:geo:0,0
END:VEVENT
BEGIN:VTIMEZONE
TZID:Europe/Paris
X-LIC-LOCATION:Europe/Paris
BEGIN:DAYLIGHT
DTSTART:20250330T030000
TZOFFSETFROM:+0100
TZOFFSETTO:+0200
TZNAME:CEST
END:DAYLIGHT
END:VTIMEZONE
END:VCALENDAR