BEGIN:VCALENDAR
VERSION:2.0
PRODID:-//wp-events-plugin.com//7.2.3.1//EN
TZID:Europe/Paris
X-WR-TIMEZONE:Europe/Paris
BEGIN:VEVENT
UID:4040@serein-armance.fr
DTSTART;TZID=Europe/Paris:20260607T000000
DTEND;TZID=Europe/Paris:20260611T000000
DTSTAMP:20251104T151120Z
URL:https://serein-armance.fr/events/sejour-zen-au-depart-dhery
SUMMARY:SÉJOUR "ZEN" au départ d'Héry
DESCRIPTION:Séjour au Thalazur\, en thalassothérapie à Ouistream au dép
 art d'Héry - Sur réservation 
ATTACH;FMTTYPE=image/jpeg:https://serein-armance.fr/wp-content/uploads/202
 5/11/ZEN-GF.jpg
CATEGORIES:BIEN-ÊTRE,EXCURSION
END:VEVENT
BEGIN:VTIMEZONE
TZID:Europe/Paris
X-LIC-LOCATION:Europe/Paris
BEGIN:DAYLIGHT
DTSTART:20260329T030000
TZOFFSETFROM:+0100
TZOFFSETTO:+0200
TZNAME:CEST
END:DAYLIGHT
END:VTIMEZONE
END:VCALENDAR