BEGIN:VCALENDAR
VERSION:2.0
PRODID:-//wp-events-plugin.com//7.2.3.1//EN
TZID:Europe/Paris
X-WR-TIMEZONE:Europe/Paris
BEGIN:VEVENT
UID:4206@serein-armance.fr
DTSTART;TZID=Europe/Paris:20260321T193000
DTEND;TZID=Europe/Paris:20260321T193000
DTSTAMP:20260219T112331Z
URL:https://serein-armance.fr/events/soiree-choucroute-a-ormoy
SUMMARY:SOIRÉE CHOUCROUTE à Ormoy
DESCRIPTION:Soirée festive à la salle des fêtes d'Ormoy - Sur réservati
 on- 
ATTACH;FMTTYPE=image/jpeg:https://serein-armance.fr/wp-content/uploads/202
 5/10/Repas-festif-GF.jpg
CATEGORIES:REPAS
LOCATION:Salle des fêtes d'Ormoy\, Place Raymond Combault\, Ormoy\, 89400\
 , France
X-APPLE-STRUCTURED-LOCATION;VALUE=URI;X-ADDRESS=Place Raymond Combault\, Or
 moy\, 89400\, France;X-APPLE-RADIUS=100;X-TITLE=Salle des fêtes d'Ormoy:g
 eo:0,0
END:VEVENT
BEGIN:VTIMEZONE
TZID:Europe/Paris
X-LIC-LOCATION:Europe/Paris
BEGIN:STANDARD
DTSTART:20251026T020000
TZOFFSETFROM:+0200
TZOFFSETTO:+0100
TZNAME:CET
END:STANDARD
END:VTIMEZONE
END:VCALENDAR