BEGIN:VCALENDAR
VERSION:2.0
PRODID:-//wp-events-plugin.com//7.2.3.1//EN
TZID:Europe/Paris
X-WR-TIMEZONE:Europe/Paris
BEGIN:VEVENT
UID:4131@serein-armance.fr
DTSTART;TZID=Europe/Paris:20260214T193000
DTEND;TZID=Europe/Paris:20260214T193000
DTSTAMP:20260112T135644Z
URL:https://serein-armance.fr/events/soiree-pour-isaac-co-a-vergigny
SUMMARY:SOIRÉE POUR "ISAAC & CO" à Vergigny
DESCRIPTION:Soirée au profit de l'association "Isaac & Co" à la salle des
  fêtes de Vergigny - Sur réservation -
ATTACH;FMTTYPE=image/jpeg:https://serein-armance.fr/wp-content/uploads/202
 6/01/Capture-decran-2026-01-12-145354.png
CATEGORIES:REPAS
LOCATION:Salle des fêtes de Vergigny\, rue des Bruyères\, Vergigny\, 8960
 0\, France
X-APPLE-STRUCTURED-LOCATION;VALUE=URI;X-ADDRESS=rue des Bruyères\, Vergign
 y\, 89600\, France;X-APPLE-RADIUS=100;X-TITLE=Salle des fêtes de Vergigny
 :geo:0,0
END:VEVENT
BEGIN:VTIMEZONE
TZID:Europe/Paris
X-LIC-LOCATION:Europe/Paris
BEGIN:STANDARD
DTSTART:20251026T020000
TZOFFSETFROM:+0200
TZOFFSETTO:+0100
TZNAME:CET
END:STANDARD
END:VTIMEZONE
END:VCALENDAR