BEGIN:VCALENDAR
VERSION:2.0
PRODID:-//wp-events-plugin.com//7.2.3.1//EN
TZID:Europe/Paris
X-WR-TIMEZONE:Europe/Paris
BEGIN:VEVENT
UID:4246@serein-armance.fr
DTSTART;TZID=Europe/Paris:20260411T203000
DTEND;TZID=Europe/Paris:20260411T203000
DTSTAMP:20260310T131049Z
URL:https://serein-armance.fr/events/theatre-a-champlost-3
SUMMARY:THÉÂTRE à Champlost
DESCRIPTION:L'Amour Vache\, une comédie pleine d'humour à la salle des f
 êtes de Champlost
ATTACH;FMTTYPE=image/jpeg:https://serein-armance.fr/wp-content/uploads/202
 4/04/theatre-rideau.gif
CATEGORIES:THÉÂTRE
LOCATION:Salle des fêtes de Champlost\, 33 route de Paris\, Champlost\, 89
 210\, France
X-APPLE-STRUCTURED-LOCATION;VALUE=URI;X-ADDRESS=33 route de Paris\, Champlo
 st\, 89210\, France;X-APPLE-RADIUS=100;X-TITLE=Salle des fêtes de Champlo
 st:geo:0,0
END:VEVENT
BEGIN:VTIMEZONE
TZID:Europe/Paris
X-LIC-LOCATION:Europe/Paris
BEGIN:DAYLIGHT
DTSTART:20260329T030000
TZOFFSETFROM:+0100
TZOFFSETTO:+0200
TZNAME:CEST
END:DAYLIGHT
END:VTIMEZONE
END:VCALENDAR