BEGIN:VCALENDAR
VERSION:2.0
PRODID:-//wp-events-plugin.com//7.2.3.1//EN
TZID:Europe/Paris
X-WR-TIMEZONE:Europe/Paris
BEGIN:VEVENT
UID:4019@serein-armance.fr
DTSTART;TZID=Europe/Paris:20260417T203000
DTEND;TZID=Europe/Paris:20260417T203000
DTSTAMP:20251026T163537Z
URL:https://serein-armance.fr/events/urbain-rinaldo-en-concert-a-brienon-s
 ur-armancon
SUMMARY:URBAIN RINALDO EN CONCERT à Brienon sur Armançon
DESCRIPTION:Urbain Rinaldo chante les poètes de la Guadeloupe au Théâtre
  Perché de Brienon - Réservation conseillée
ATTACH;FMTTYPE=image/jpeg:https://serein-armance.fr/wp-content/uploads/202
 5/09/Theatre-Perche-GF.jpg
CATEGORIES:CONCERT
LOCATION:Théâtre Perché\, Espace Pierre Louki - 9 Place E. Blondeau\, Br
 ienon sur Armançon\, 89210\, France
X-APPLE-STRUCTURED-LOCATION;VALUE=URI;X-ADDRESS=Espace Pierre Louki - 9 Pla
 ce E. Blondeau\, Brienon sur Armançon\, 89210\, France;X-APPLE-RADIUS=100
 ;X-TITLE=Théâtre Perché:geo:0,0
END:VEVENT
BEGIN:VTIMEZONE
TZID:Europe/Paris
X-LIC-LOCATION:Europe/Paris
BEGIN:DAYLIGHT
DTSTART:20260329T030000
TZOFFSETFROM:+0100
TZOFFSETTO:+0200
TZNAME:CEST
END:DAYLIGHT
END:VTIMEZONE
END:VCALENDAR