BEGIN:VCALENDAR
VERSION:2.0
PRODID:-//wp-events-plugin.com//7.2.3.1//EN
TZID:Europe/Paris
X-WR-TIMEZONE:Europe/Paris
BEGIN:VEVENT
UID:4298@serein-armance.fr
DTSTART;TZID=Europe/Paris:20260515T140000
DTEND;TZID=Europe/Paris:20260516T023000
DTSTAMP:20260328T145820Z
URL:https://serein-armance.fr/events/utopia-faystival-au-fays-pres-de-turn
 y
SUMMARY:UTOPIA FAYSTIVAL au Fays (près de Turny)
DESCRIPTION:Concerts ensoleillés et DJ rayonnants pour ces deux jours de f
 estival au Fays
ATTACH;FMTTYPE=image/jpeg:https://serein-armance.fr/wp-content/uploads/202
 6/03/UTOPIA-FAYSTIVAL-.png
CATEGORIES:CONCERT
LOCATION:Le Clos des Artistes\, 1 ruelle du Haut du Tôt\, Turny\, 89570\, 
 France
X-APPLE-STRUCTURED-LOCATION;VALUE=URI;X-ADDRESS=1 ruelle du Haut du Tôt\, 
 Turny\, 89570\, France;X-APPLE-RADIUS=100;X-TITLE=Le Clos des Artistes:geo
 :0,0
END:VEVENT
BEGIN:VTIMEZONE
TZID:Europe/Paris
X-LIC-LOCATION:Europe/Paris
BEGIN:DAYLIGHT
DTSTART:20260329T030000
TZOFFSETFROM:+0100
TZOFFSETTO:+0200
TZNAME:CEST
END:DAYLIGHT
END:VTIMEZONE
END:VCALENDAR