BEGIN:VCALENDAR
VERSION:2.0
PRODID:-//wp-events-plugin.com//7.2.3.1//EN
TZID:Europe/Paris
X-WR-TIMEZONE:Europe/Paris
BEGIN:VEVENT
UID:4212@serein-armance.fr
DTSTART;TZID=Europe/Paris:20260426T070000
DTEND;TZID=Europe/Paris:20260426T180000
DTSTAMP:20260223T135808Z
URL:https://serein-armance.fr/events/vide-greniers-a-bligny-en-othe-pres-d
 e-brienon
SUMMARY:VIDE-GRENIERS à Bligny en Othe près de Brienon
DESCRIPTION:De nombreux exposants attendus pour ce vide-greniers de Bligny 
 en Othe
ATTACH;FMTTYPE=image/jpeg:https://serein-armance.fr/wp-content/uploads/202
 3/04/vide-greniers-actu.gif
CATEGORIES:VIDE GRENIERS - BOURSE
END:VEVENT
BEGIN:VTIMEZONE
TZID:Europe/Paris
X-LIC-LOCATION:Europe/Paris
BEGIN:DAYLIGHT
DTSTART:20260329T030000
TZOFFSETFROM:+0100
TZOFFSETTO:+0200
TZNAME:CEST
END:DAYLIGHT
END:VTIMEZONE
END:VCALENDAR