BEGIN:VCALENDAR
VERSION:2.0
PRODID:-//wp-events-plugin.com//7.2.3.1//EN
TZID:Europe/Paris
X-WR-TIMEZONE:Europe/Paris
BEGIN:VEVENT
UID:4158@serein-armance.fr
DTSTART;TZID=Europe/Paris:20260419T070000
DTEND;TZID=Europe/Paris:20260419T180000
DTSTAMP:20260121T155711Z
URL:https://serein-armance.fr/events/vide-greniers-a-hauterive-4
SUMMARY:VIDE-GRENIERS à Hauterive
DESCRIPTION:De nombreux exposants attendus vers l'église et la mairie d'Ha
 uterive -
ATTACH;FMTTYPE=image/jpeg:https://serein-armance.fr/wp-content/uploads/202
 3/04/vide-greniers-actu.gif
CATEGORIES:VIDE GRENIERS - BOURSE
END:VEVENT
BEGIN:VTIMEZONE
TZID:Europe/Paris
X-LIC-LOCATION:Europe/Paris
BEGIN:DAYLIGHT
DTSTART:20260329T030000
TZOFFSETFROM:+0100
TZOFFSETTO:+0200
TZNAME:CEST
END:DAYLIGHT
END:VTIMEZONE
END:VCALENDAR