BEGIN:VCALENDAR
VERSION:2.0
PRODID:-//wp-events-plugin.com//7.2.3.1//EN
TZID:Europe/Paris
X-WR-TIMEZONE:Europe/Paris
BEGIN:VEVENT
UID:4224@serein-armance.fr
DTSTART;TZID=Europe/Paris:20260412T070000
DTEND;TZID=Europe/Paris:20260412T180000
DTSTAMP:20260302T160345Z
URL:https://serein-armance.fr/events/vide-greniers-a-saint-florentin-7
SUMMARY:VIDE-GRENIERS à Saint-Florentin
DESCRIPTION:Grand vide-greniers dans les rues du centre de la ville 
ATTACH;FMTTYPE=image/jpeg:https://serein-armance.fr/wp-content/uploads/202
 3/04/vide-greniers-actu.gif
END:VEVENT
BEGIN:VTIMEZONE
TZID:Europe/Paris
X-LIC-LOCATION:Europe/Paris
BEGIN:DAYLIGHT
DTSTART:20260329T030000
TZOFFSETFROM:+0100
TZOFFSETTO:+0200
TZNAME:CEST
END:DAYLIGHT
END:VTIMEZONE
END:VCALENDAR